BEGIN:VCALENDAR
VERSION:2.0
PRODID:-//Roam Puerto Rico - ECPv6.15.20//NONSGML v1.0//EN
CALSCALE:GREGORIAN
METHOD:PUBLISH
X-ORIGINAL-URL:https://roampuertorico.com
X-WR-CALDESC:Events for Roam Puerto Rico
REFRESH-INTERVAL;VALUE=DURATION:PT1H
X-Robots-Tag:noindex
X-PUBLISHED-TTL:PT1H
BEGIN:VTIMEZONE
TZID:America/Puerto_Rico
BEGIN:STANDARD
TZOFFSETFROM:-0400
TZOFFSETTO:-0400
TZNAME:AST
DTSTART:20250101T000000
END:STANDARD
END:VTIMEZONE
BEGIN:VEVENT
DTSTART;TZID=America/Puerto_Rico:20260423T083000
DTEND;TZID=America/Puerto_Rico:20260426T170000
DTSTAMP:20260422T082824
CREATED:20260420T234430Z
LAST-MODIFIED:20260420T234430Z
UID:7759-1776933000-1777222800@roampuertorico.com
SUMMARY:Feria Anual del Libro 2026
DESCRIPTION:  \n  \n  \n  \n  \n  \n  \n  \n  \n  \nDedicada a Ana Lydia Vega  \n La Administración Municipal de Caguas y su alcalde\, William E. Miranda Torres\, invitan a la ciudadanía a disfrutar de la Feria Anual del Libro de Caguas 2026\, que se celebrará del 23 al 26 de abril de 2026 en la Sala Carmita Jiménez del Centro de Bellas Artes de Caguas . \n Este evento cultural reunirá a autores nacionales e internacionales\, librerías\, editoriales y al público lector en una celebración del libro\, la palabra y el pensamiento.
URL:https://roampuertorico.com/event/feria-anual-del-libro-2026/
LOCATION:Centro de Bellas Artes de Caguas\, Caguas\, Puerto Rico
ATTACH;FMTTYPE=image/jpeg:https://roampuertorico.com/wp-content/uploads/2026/04/Feria-de-Libros-Main.jpg
END:VEVENT
BEGIN:VEVENT
DTSTART;TZID=America/Puerto_Rico:20260424T080000
DTEND;TZID=America/Puerto_Rico:20260426T230000
DTSTAMP:20260422T082824
CREATED:20260421T000923Z
LAST-MODIFIED:20260421T000923Z
UID:7779-1777017600-1777244400@roampuertorico.com
SUMMARY:Festival del Apio 2026
DESCRIPTION:El próximo fin de semana celebramos juntos nuestro gran esperado Festival del Apio. \n🗓️ 24\, 25 y 26 de abril¡Los esperamos en Barranquitas para disfrutar de música\, cultura\, gastronomía y lo mejor de nuestra gente!
URL:https://roampuertorico.com/event/festival-del-apio/
LOCATION:Pabellón de las Artes y la Juventúd\, Barranquitas\, Puerto Rico
ATTACH;FMTTYPE=image/jpeg:https://roampuertorico.com/wp-content/uploads/2026/04/Festival-del-Apio-2026.jpeg
END:VEVENT
BEGIN:VEVENT
DTSTART;TZID=America/Puerto_Rico:20260424T190000
DTEND;TZID=America/Puerto_Rico:20260426T230000
DTSTAMP:20260422T082824
CREATED:20260421T000214Z
LAST-MODIFIED:20260421T000214Z
UID:7775-1777057200-1777244400@roampuertorico.com
SUMMARY:59no Carnaval Arroyano 2026
DESCRIPTION:La administración Municipal de Arroyo y su alcalde Eric Bachier Román te invitan a la Quincuagésima novena edición del Carnaval Arroyano Cristóbal L. Sánchez. \nEl evento se efectuará del viernes\, 24 al domingo\, 26 de abril de 2026 en el Malecón de Arroyo a partir de las 7:00pm.
URL:https://roampuertorico.com/event/carnaval-arroyano/
ATTACH;FMTTYPE=image/jpeg:https://roampuertorico.com/wp-content/uploads/2026/04/Carnaval-Arroyano-2026.jpeg
END:VEVENT
BEGIN:VEVENT
DTSTART;TZID=America/Puerto_Rico:20260426T090000
DTEND;TZID=America/Puerto_Rico:20260426T160000
DTSTAMP:20260422T082824
CREATED:20260420T235650Z
LAST-MODIFIED:20260420T235650Z
UID:7770-1777194000-1777219200@roampuertorico.com
SUMMARY:El Mercado Miramar
DESCRIPTION:Hace un año empezó aquí…y el próximo domingo volvemos a celebrarlo donde todo nació. \nMás grande. Más vivo. Más nuestro. \n🗓️ Domingo\, 26 de abril\n⏰ 9AM–4PM \n📍 Cancha Perpetuo Socorro\, Miramar \nAgricultura • artesanos • comida local • comunidad \n✨ Entrada gratis\nGuárdalo y envíaselo a tu corillo… esto es plan de domingo.
URL:https://roampuertorico.com/event/el-mercado-miramar/
LOCATION:Academia Perpetuo Socorro\, San Juan\, Puerto Rico
ATTACH;FMTTYPE=image/png:https://roampuertorico.com/wp-content/uploads/2026/04/El-Mercado-Miramar.png
END:VEVENT
BEGIN:VEVENT
DTSTART;TZID=America/Puerto_Rico:20260426T120000
DTEND;TZID=America/Puerto_Rico:20260426T170000
DTSTAMP:20260422T082824
CREATED:20260421T001305Z
LAST-MODIFIED:20260421T001305Z
UID:7784-1777204800-1777222800@roampuertorico.com
SUMMARY:Festival Aguadillano de la Chiringa 2026
DESCRIPTION:¡Regresa una de nuestras tradiciones más coloridas! \nEl 48vo Festival Aguadillano de la Chiringa Puertorriqueña llega a la Bahía de Aguadilla para llenar el cielo de color\, cultura y diversión familiar. \nTrae tu chiringa\, participa en las competencias o simplemente ven a disfrutar del ambiente familiar frente al mar. ¡Te esperamos!
URL:https://roampuertorico.com/event/festival-aguadillano-de-la-chiringa/
LOCATION:Bahia de Aguadilla\, Aguadilla\, Puerto Rico
ATTACH;FMTTYPE=image/jpeg:https://roampuertorico.com/wp-content/uploads/2026/04/Festival-Aguadillano-de-la-Chiringa-2026.jpg
END:VEVENT
END:VCALENDAR