BEGIN:VCALENDAR
VERSION:2.0
PRODID:-//Roam Puerto Rico - ECPv6.15.20//NONSGML v1.0//EN
CALSCALE:GREGORIAN
METHOD:PUBLISH
X-WR-CALNAME:Roam Puerto Rico
X-ORIGINAL-URL:https://roampuertorico.com
X-WR-CALDESC:Events for Roam Puerto Rico
REFRESH-INTERVAL;VALUE=DURATION:PT1H
X-Robots-Tag:noindex
X-PUBLISHED-TTL:PT1H
BEGIN:VTIMEZONE
TZID:America/Puerto_Rico
BEGIN:STANDARD
TZOFFSETFROM:-0400
TZOFFSETTO:-0400
TZNAME:AST
DTSTART:20250101T000000
END:STANDARD
END:VTIMEZONE
BEGIN:VEVENT
DTSTART;TZID=America/Puerto_Rico:20260115T190000
DTEND;TZID=America/Puerto_Rico:20260118T230000
DTSTAMP:20260420T155127
CREATED:20260112T224359Z
LAST-MODIFIED:20260112T224443Z
UID:7351-1768503600-1768777200@roampuertorico.com
SUMMARY:Fiestas Patronales de Añasco 2026
DESCRIPTION:Fiestas Patronales de Añasco 2026. \nEl Gobierno Municipal de Añasco y su alcalde Kabir B. Solares García les invitan a sus Fiestas de Pueblo 2026 del 15 al 18 de enero de 2026 en nuestra Plaza Pública José Adolfo Pesante. \nEste año tendremos machinas para nuestros nenes y el regreso del Maratón San Antonio Abad. ¡Allá estaremos!
URL:https://roampuertorico.com/event/fiestas-patronales-de-anasco-2026/
LOCATION:Plaza Pública José Adolfo Pesante\, Aibonito\, Puerto Rico
ATTACH;FMTTYPE=image/jpeg:https://roampuertorico.com/wp-content/uploads/2026/01/Fiestas-Patronales-de-Anasco-2026-miagendapr.jpg
END:VEVENT
BEGIN:VEVENT
DTSTART;TZID=America/Puerto_Rico:20260114T000000
DTEND;TZID=America/Puerto_Rico:20260118T000000
DTSTAMP:20260420T155127
CREATED:20260112T151547Z
LAST-MODIFIED:20260112T194430Z
UID:7092-1768348800-1768694400@roampuertorico.com
SUMMARY:Fiestas Patronales de San Sebastián 2026
DESCRIPTION:Fiestas Patronales de San Sebastián 2026. \nEl Gobierno Municipal de San Sebastián y su alcalde Eladio “Layito” Cardona Quiles te invitan a las tradicionales Fiestas de Pueblo en honor a Nuestro Santo Patrón San Sebastián. \nEl evento se efectuará en el Estadio Juan José “Tití” Beníquez del miércoles\, 14 al domingo\, 18 de enero de 2026. ¡Te esperamos! \n\nFiestas Patronales de San Sebastián\, en honor a San Sebastián Mártir.\n\n\n\n Del 14 al 18 de enero\n\n Estacionamiento del Estadio Juan José “Titi” Beníquez.\n\n\n\nDurante cinco días disfruta de kioscos\, machinas para grandes y chicos\, fuegos artificiales y una variada oferta musical.\n\n\n PROGRAMACIÓN ARTÍSTICA\n\n\n\nMiércoles\, 14 de enero:\n– 7:00 pm – Rumba Caliente\n– ⁠8:30 pm – Yeika\n– ⁠10:00 pm- Sonora Ponceña\n\n\n\nJueves\, 15 de enero:\n– 8:00 pm – Tomy La Raza\n– ⁠9:30 pm – Banda Euforia\n– ⁠11:00 pm – La Secta All Star\n\n\n\nViernes\, 16 de enero:\n– 8:00 pm – Urbanes\n– ⁠9:30 pm – Orquesta Bailoteo\n– ⁠11:00 pm – El Gran Combo de Puerto Rico\n\n\n\nSábado\, 17 de enero:\n[Tarde Infantil] Machinas a precio especial de 3:00 pm a 6:00 pm\n– 4:00 pm – Payaso Tibulin\n– ⁠5:00 pm – Mago Abraham David\n– ⁠8:00 pm – John Alma y su Grupo 3-2-1\n– ⁠10:00 pm – La Tribu de Abrante\n– ⁠11:45 pm – Alexis & Fido\n\n\n\nDomingo\, 18 de enero:\n[Festival de la Novilla]\n– 4:00 pm – Encuentro de Trovadores\n– ⁠6:30 pm – Show de El Guitarreño\n– ⁠8:00 pm – Christian Alicea\n– ⁠9:30 pm – Grupomanía\n\n\n\nProduce: Livany Media Group & Events
URL:https://roampuertorico.com/event/fiestas-patronales-san-sebastian-2026/
LOCATION:Estacionamiento del Estadio Juan José “Titi” Beníquez\, San Sebastián\, Puerto Rico
ATTACH;FMTTYPE=image/jpeg:https://roampuertorico.com/wp-content/uploads/2026/01/patronales-San-Sebastian-2026.jpg
END:VEVENT
END:VCALENDAR