BEGIN:VCALENDAR
VERSION:2.0
PRODID:-//Roam Puerto Rico - ECPv6.15.20//NONSGML v1.0//EN
CALSCALE:GREGORIAN
METHOD:PUBLISH
X-ORIGINAL-URL:https://roampuertorico.com
X-WR-CALDESC:Events for Roam Puerto Rico
REFRESH-INTERVAL;VALUE=DURATION:PT1H
X-Robots-Tag:noindex
X-PUBLISHED-TTL:PT1H
BEGIN:VTIMEZONE
TZID:America/Puerto_Rico
BEGIN:STANDARD
TZOFFSETFROM:-0400
TZOFFSETTO:-0400
TZNAME:AST
DTSTART:20250101T000000
END:STANDARD
END:VTIMEZONE
BEGIN:VEVENT
DTSTART;TZID=America/Puerto_Rico:20260316T180000
DTEND;TZID=America/Puerto_Rico:20260316T235900
DTSTAMP:20260420T135942
CREATED:20260112T151608Z
LAST-MODIFIED:20260315T234229Z
UID:7328-1773684000-1773705540@roampuertorico.com
SUMMARY:Lunes de Plena de Tito Matos
DESCRIPTION:Desde las 6pm en El Boricua\, Rio Piedras
URL:https://roampuertorico.com/event/lunes-de-plena-de-tito-matos/
LOCATION:El Boricua\, Rio Piedras\, Puerto Rico
ATTACH;FMTTYPE=image/jpeg:https://roampuertorico.com/wp-content/uploads/2026/01/lunes-de-plena-31526.jpg
END:VEVENT
BEGIN:VEVENT
DTSTART;TZID=America/Puerto_Rico:20260321T140000
DTEND;TZID=America/Puerto_Rico:20260322T235900
DTSTAMP:20260420T135942
CREATED:20260315T182728Z
LAST-MODIFIED:20260315T182728Z
UID:7573-1774101600-1774223940@roampuertorico.com
SUMMARY:27º Festival de la Almojábana
DESCRIPTION:El alcalde Fabián “Faby” Arroyo Rodríguez\, la Oficina de Cultura y Turismo y la Administración Municipal de Lares te invitan a la vigésima séptima (27.ª) edición del Festival de la Almojábana. \n¡Separa la fecha!\n21 y 22 de marzo de 2026\nPlaza de los Patriotas \nDos días de tradición\, cultura\, música en vivo y el auténtico sabor de la almojábana. \n¡Te esperamos en la #CiudadDelGrito!
URL:https://roampuertorico.com/event/festival-de-la-almojabana/
LOCATION:Plaza de los Patriotas\, Jayuya\, Puerto Rico
ATTACH;FMTTYPE=image/jpeg:https://roampuertorico.com/wp-content/uploads/2026/03/festival-de-la-almojabana-2026.jpg
END:VEVENT
BEGIN:VEVENT
DTSTART;TZID=America/Puerto_Rico:20260322T110000
DTEND;TZID=America/Puerto_Rico:20260322T220000
DTSTAMP:20260420T135942
CREATED:20260315T182711Z
LAST-MODIFIED:20260315T182711Z
UID:7588-1774177200-1774216800@roampuertorico.com
SUMMARY:Día Nacional de la Zalsa
DESCRIPTION:Zalsero… Llegó tu día !!!  \nVen a celebrar el 42 Aniversario del evento de salsa más grande e importante de Puerto Rico\, el “Día Nacional de La Zalsa” de la emisora Z93. \nEste año nuevamente  la cita será en la “Plaza de la Independencia” en las inmediaciones del Estadio Hiram Bithorn\, San Juan\, PR. \n  \n\nLa India\nFruko Y Sus Tesos\nJosé Alberto “El Canario”\nLa Sonora Ponceña\nAdolescentes Orquesta\nChiquito Team Band\nMickey Cora\nPR Es Salsa con Joey Hernández \, Guillo Rivera y Simón Pérez\nCarlos García\nManolito Rodríguez  y La Zonika\n\nPRECIOS: \nPre-Venta   General – $20.00 + ivu & c.s. ( Cantidad Limitada) \nGeneral  Regular – $30.00  + ivu & c.s. \nVIP – $65.00 + ivu & c.s. \n     Incluye: Silla por orden de llegada\, Baños y Barras privadas. Espacio frente a la tarima. Fila de entrada exclusiva. \nNota: Se permitirá sillitas de playa personales
URL:https://roampuertorico.com/event/dia-nacional-de-la-zalsa/
LOCATION:Plaza de la Independencia\, San Juan\, Puerto Rico
ATTACH;FMTTYPE=image/webp:https://roampuertorico.com/wp-content/uploads/2026/03/Dia-nacional-de-la-salsa-2026.webp
END:VEVENT
BEGIN:VEVENT
DTSTART;TZID=America/Puerto_Rico:20260328T170000
DTEND;TZID=America/Puerto_Rico:20260328T230000
DTSTAMP:20260420T135942
CREATED:20260315T183202Z
LAST-MODIFIED:20260315T183242Z
UID:7597-1774717200-1774738800@roampuertorico.com
SUMMARY:Taste of Rum 2026
DESCRIPTION:Taste of Rum 2026\nTheRumLab is eager to commemorate the 16th Puerto Rico International Rum Festival & Conference with you in the greatest rum island of the Americas. \nThis is one of the biggest rum festivals in the world\, with over 2\,000 attendees. The event is a feast of our Puerto Rico joyful energy\, culinary and musical richness\, and culture. This event is ideal for rum connoisseurs\, casual consumers\, and industry professionals eager to explore and learn about rum\, with over 40 distinct award-winning premium rum brands. Indeed\, there are around 200 distinct rum expressions available for sampling either NEAT or in a TWISTED DAIQUIRI. \nThe boutique-style event emphasizes the education and premiumization of the rum category. \nOur team has vast knowledge in the rum category. The Rum Lab is the producer of the Miami Rum Congress\, Chicago Rum Fest\, Spain Rum & Gin Expo (Madrid)\, New York Rum Fest\, Los Angeles Rum Fest (Pop-Up)\, and San Francisco Rum Festival. All events are attracting hundreds of people from trade\, rum aficionados\, tourists & locals. \n🗓️ Saturday\, March 28th\, 2026 \n📍Puerto Rico Convention Center\, San Juan P.R. \nPrecios: \nPreventa VIP Rum Experts: $69.99 + ivu + c.s. \nPreventa Rum Enthusiastic: $59.99 + ivu + c.s. \nPreventa General: $49.99 + ivu + c.s. \nSESSION #1 – VIP RUM EXPERTS – Grand Tasting & Conference | ⏰ 5:00pm – 11:00pm \nDetails: Consists of a 6-hour program offering the attendees the opportunity to: \n2.5-hour early admission with limited number of people \nExclusive Souvenir Glass Tasting Cup \n1st group to taste all the amazing premium rums \nAccess to Rum Lounge Area \nAutomatic subscription to TheRumLab Weekly Industry Newsletter \nThe first group tier will receive the R.S.V.P. invitation for the Rum Conference. (Due to limited space\, we can’t guarantee seat availability\, as it’s first come\, first served.) ** \nInvitation to the VIP Secret Opening Party (must reserve\, limited capacity). \nOne-time 20% discount promo code for NobleCane.com. Upon request. \nNote: Food is not included with the ticket. \nSESSION #2 – VIP RUM ENTHUSIASTIC – Grand Tasting Session | ⏰  6:00pm – 11:00pm \nDetails: Consists of a 5-hour program offering the attendees the opportunity to: \n1-hour early admission \nExclusive Souvenir Tasting Cup \n2nd group to taste all the amazing premium rums \nThe second group will receive the Rum Conference R.S.V.P. invitation. (Due to limited space\, we can’t guarantee seat availability\, as it’s first come\, first served.) ** \nOne-time 15% discount promo code for NobleCane.com. Upon request. \nNote: Food is not included with the ticket. \nSESSION #3: GA – INTRO TO RUM / Grand Tasting Session | ⏰  7:30pm – 11:00pm  \nDetails: Consists of a 3.5-hour program offering the attendees the opportunity to: \n3oz Souvenir Acrylic Tasting Cup \nTaste premium rums \nOne-time 10% discount promo code for NobleCane.com. Upon request. \nNote: Food is not included with the ticket.
URL:https://roampuertorico.com/event/taste-of-rum/
LOCATION:Centro de Convencio de Puerto Rico\, San Juan\, Puerto Rico
ATTACH;FMTTYPE=image/webp:https://roampuertorico.com/wp-content/uploads/2026/03/Taste-of-Rum-Festival.webp
END:VEVENT
BEGIN:VEVENT
DTSTART;TZID=America/Puerto_Rico:20260420T200000
DTEND;TZID=America/Puerto_Rico:20260420T235900
DTSTAMP:20260420T135942
CREATED:20260315T234648Z
LAST-MODIFIED:20260419T233857Z
UID:7638-1776715200-1776729540@roampuertorico.com
SUMMARY:Lunes de Bonanza: Daniel y Alex
DESCRIPTION:Lunes de Bonanza \nArranca la semana como se supone… con buen vibe\, tragos y la mejor compañía.\nVen y pásala bien con tus panas\, relájate y date ese break que te mereces. \n🔥 Happy Hour\n🛍️Mercado local \nEl mejor ambiente — ya más que comprobado \nNos vemos… no te lo pierdas.
URL:https://roampuertorico.com/event/lunes-de-bonanza/
LOCATION:La Terraza de Bonanza\, Santurce\, Puerto Rico
ATTACH;FMTTYPE=image/png:https://roampuertorico.com/wp-content/uploads/2026/03/Screenshot-2026-04-19-at-7.23.01-PM.png
END:VEVENT
BEGIN:VEVENT
DTSTART;TZID=America/Puerto_Rico:20260422T090000
DTEND;TZID=America/Puerto_Rico:20260422T120000
DTSTAMP:20260420T135942
CREATED:20260420T003702Z
LAST-MODIFIED:20260420T003702Z
UID:7721-1776848400-1776859200@roampuertorico.com
SUMMARY:Feria de Vacunación de Mascotas
DESCRIPTION:Nuestro programa Huellitas en tu Comunidad llega a la Urbanización Rivieras de Cupey\, con una Feria de Vacunación a bajo costo para mascotas.\n\nPerros y gatos menores de 4 meses: $15.00\nIncluye: Vacuna DHLPP (perro)\, Vacuna FRCCP (gato)\, Desparasitante y Examen Básico.\n\nPerros y gatos mayores de 4 meses: $25.00\nIncluye: Vacuna DHLPP (perro)\, Vacuna FRCCP (gato)\, Rabia y Desparasitante y Examen Básico.\n\n Otros servicios:\n– Microchip $20\n– Bordetella $15\n– Corte de Uñas $10\n– Limpieza de oídos $10\n\n Métodos de pago: Efectivo\, tarjeta de crédito o débito y ATH Móvil\n\nLos perros tienen que estar siempre con su correa. Los gatos tienen que ser manejables y estar en Kennels para poder ser vacunados.\n\n (787) 480-3434 | (787) 480-3436 | (787) 480- 3437 cpaa@sanjuan.pr
URL:https://roampuertorico.com/event/feria-de-vacunacion-de-mascotas/
LOCATION:Urb. Rivieras de Cupey\, San Juan\, Puerto Rico
ATTACH;FMTTYPE=image/jpeg:https://roampuertorico.com/wp-content/uploads/2026/04/Vacunacion-de-Mascotas-Abril.jpg
ORGANIZER;CN="Centro de Protecci%C3%B3n y Adopci%C3%B3n de Animales de San Juan":MAILTO:cpaa@sanjuan.pr
END:VEVENT
BEGIN:VEVENT
DTSTART;TZID=America/Puerto_Rico:20260422T190000
DTEND;TZID=America/Puerto_Rico:20260422T235900
DTSTAMP:20260420T135942
CREATED:20260420T003135Z
LAST-MODIFIED:20260420T003135Z
UID:7715-1776884400-1776902340@roampuertorico.com
SUMMARY:Jazz Jam Session with San Juan Collective
DESCRIPTION:Próximo JAM SESSION con San Juan Collective es este Miércoles❗️ \n🗓 22 de abril \n⏱️ 7:00pm \n📍Beer Me Home \n¡No te lo pierdas!
URL:https://roampuertorico.com/event/jazz-jam-session-with-san-juan-collective/
LOCATION:Beer Me Home\, Bayamón\, Puerto Rico
ATTACH;FMTTYPE=image/png:https://roampuertorico.com/wp-content/uploads/2026/04/Jazz-Jam-Session-.png
END:VEVENT
BEGIN:VEVENT
DTSTART;TZID=America/Puerto_Rico:20260423T180000
DTEND;TZID=America/Puerto_Rico:20260425T170000
DTSTAMP:20260420T135942
CREATED:20260420T000305Z
LAST-MODIFIED:20260420T000305Z
UID:7706-1776967200-1777136400@roampuertorico.com
SUMMARY:3er Congreso Internacional de Escritores
DESCRIPTION:Les compartimos la agenda para la tercera edición del Congreso Internacional de Escritores\, a celebrarse del 23 al 25 de abril\, en el Centro de Bellas Artes de Caguas. \n🗓️ Jueves\, 23 de abril\n📍Sala de Conciertos y Teatro Felipe “La Voz” Rodríguez\, segundo nivel \n9:00 AM Apertura del Congreso \n9:30 AM Conferencia inaugural: “Las palabras de la tribu global”William Ospina (Colombia) \n11:00 AM Conferencia: “Palabras para el futuro”Ana Teresa Toro (PR) \n📍Moneró Café Teatro & Bar\, tercer nivel \n3:00 PM Debate: “El amor bajo vientos de odio”con Pabsi Livmar (PR)\, Melanie Pérez Ortiz (PR) y Juan Carlos Méndez Guédez (Venezuela)Moderadora: Tere Dávila (PR) \n4:30 PM Conferencia: “Elogio de la diversidad”Rey Andújar (República Dominicana) \n6:00 PM Debate: “Todos los miedos\, el miedo”con Claudia Piñeiro (Argentina)\, Wilda Rodríguez (PR) y José Manuel Fajardo (España)Moderador: Ignacio Ferrando (España) \n7:00 PM Lectura de poesíacon William Ospina\, Rey Andújar\, José Manuel Fajardo\, Mayrim Cruz-Bernal (PR)\, Mayra Santos-Febres (PR)\, Ana María Fuster (PR)\, Mara Pastor (PR) y Xavier Valcárcel (PR)Moderadora: Helena Sampedro (PR) \n📍Salón de Ensayo\, segundo nivel \n7:00 PM – 9:00 PM Taller de escritura para escritores: “Escribir el mal”con Ignacio Ferrando. Actividad de asistencia limitada; sólo para inscritos. \n🗓️ Viernes\, 24 de abril\n📍Sala de Conciertos y Teatro Felipe “La Voz” Rodríguez\, segundo nivel \n9:00 AM Conferencia: “Crímenes cotidianos”Claudia Piñeiro (Argentina) \n10:30 AM Debate: “Bad Bunny y la palabra boricua: música\, lengua y libertad”Maia Sherwood (PR)\, Elidio La Torre Lagares (PR) y Ari Manuel Cruz (PR)Moderadora: Melanie Pérez Ortiz (PR) \n3:00 PM Diálogo: “La literatura infantil y lo políticamente correcto”Tina Casanova (PR)\, José Rabelo (PR) y Arlene Carballo (PR)Moderadora: Haydée Zayas (PR) \n4:30 PM Conferencia: “El español en los tiempos de la cólera: la literatura como resistencia”Juan Gabriel Vásquez (Colombia) \n6:00 PM Diálogo: “Cultura religiosa africana en la literatura del Caribe”con Juan López Bauzá (PR) y Mayra Montero (Cuba/PR)Moderadora: Helena Sampedro (PR) \n📍Salón de Ensayo\, segundo nivel \n7:00 PM – 9:00 PM Taller de escritura para escritores: “Escribir el mal”con Ignacio Ferrando. Actividad de asistencia limitada; sólo para inscritos. \n🗓️ Sábado\, 25 de abril\n📍Sala de Conciertos y Teatro Felipe “La Voz” Rodríguez\, segundo nivel \n10:00 AM Conferencia: “EstábaNos comiendo rábanos – El español de Puerto Rico”Magali García Ramis (PR) \n11:30 AM Conferencia: “Memoria de la violencia”Juan Carlos Méndez Guédez (Venezuela) \n3:00 PM Debate: “La patria común de la lengua”Raquel Caleya (España)\, María José Gálvez (España)\, Santiago Herrero (España) y Mayra Santos-Febres (PR)Moderadora: Cézanne Cardona (PR) \n4:30 PM Conferencia de clausura: “Los fantasmas del ayer”Javier Cercas (España) \n6:00 PM Diálogo: “Las palabras que nos arman”con Luis Rafael Sánchez (PR) y Luis García Montero (España)Moderador: Manolo Núñez Negrón (PR)
URL:https://roampuertorico.com/event/congreso-internacional-de-escritores/
LOCATION:Centro de Bellas Artes de Caguas\, Caguas\, Puerto Rico
ATTACH;FMTTYPE=image/jpeg:https://roampuertorico.com/wp-content/uploads/2026/04/3er-Congreso-Internacional-de-Escritores.jpg
END:VEVENT
BEGIN:VEVENT
DTSTART;TZID=America/Puerto_Rico:20260425T150000
DTEND;TZID=America/Puerto_Rico:20260425T210000
DTSTAMP:20260420T135942
CREATED:20260419T234237Z
LAST-MODIFIED:20260419T234237Z
UID:7701-1777129200-1777150800@roampuertorico.com
SUMMARY:Noche de Cultura\, Ritmo y Sabor: ¡Celebrando Nuestra Herencia!
DESCRIPTION:Evento mensual que se celebra el último sábado de cada mes\, donde se unen la música\, el baile\, el folclor y la artesanía puertorriqueña\, creando un espacio para honrar nuestras raíces y fortalecer nuestra identidad cultural en la emblemática Plaza Colón\, en el Viejo San Juan.
URL:https://roampuertorico.com/event/noche-de-cultura-ritmo-y-sabor-celebrando-nuestra-herencia/
LOCATION:Plaza Colón\, Viejo San Juan\, Puerto Rico
ATTACH;FMTTYPE=image/jpeg:https://roampuertorico.com/wp-content/uploads/2026/04/Noche-de-Cultura-Ritmo-y-Sabor.jpg
END:VEVENT
END:VCALENDAR