BEGIN:VCALENDAR
VERSION:2.0
PRODID:-//Roam Puerto Rico - ECPv6.15.20//NONSGML v1.0//EN
CALSCALE:GREGORIAN
METHOD:PUBLISH
X-WR-CALNAME:Roam Puerto Rico
X-ORIGINAL-URL:https://roampuertorico.com
X-WR-CALDESC:Events for Roam Puerto Rico
REFRESH-INTERVAL;VALUE=DURATION:PT1H
X-Robots-Tag:noindex
X-PUBLISHED-TTL:PT1H
BEGIN:VTIMEZONE
TZID:America/Puerto_Rico
BEGIN:STANDARD
TZOFFSETFROM:-0400
TZOFFSETTO:-0400
TZNAME:AST
DTSTART:20250101T000000
END:STANDARD
END:VTIMEZONE
BEGIN:VEVENT
DTSTART;TZID=America/Puerto_Rico:20260420T200000
DTEND;TZID=America/Puerto_Rico:20260420T235900
DTSTAMP:20260420T051014
CREATED:20260315T234648Z
LAST-MODIFIED:20260419T233857Z
UID:7638-1776715200-1776729540@roampuertorico.com
SUMMARY:Lunes de Bonanza: Daniel y Alex
DESCRIPTION:Lunes de Bonanza \nArranca la semana como se supone… con buen vibe\, tragos y la mejor compañía.\nVen y pásala bien con tus panas\, relájate y date ese break que te mereces. \n🔥 Happy Hour\n🛍️Mercado local \nEl mejor ambiente — ya más que comprobado \nNos vemos… no te lo pierdas.
URL:https://roampuertorico.com/event/lunes-de-bonanza/
LOCATION:La Terraza de Bonanza\, Santurce\, Puerto Rico
ATTACH;FMTTYPE=image/png:https://roampuertorico.com/wp-content/uploads/2026/03/Screenshot-2026-04-19-at-7.23.01-PM.png
END:VEVENT
END:VCALENDAR